BEGIN:VCALENDAR
VERSION:2.0
PRODID:-//Japan America Society of DFW - ECPv6.15.20//NONSGML v1.0//EN
CALSCALE:GREGORIAN
METHOD:PUBLISH
X-WR-CALNAME:Japan America Society of DFW
X-ORIGINAL-URL:https://jasdfw.org
X-WR-CALDESC:Events for Japan America Society of DFW
REFRESH-INTERVAL;VALUE=DURATION:PT1H
X-Robots-Tag:noindex
X-PUBLISHED-TTL:PT1H
BEGIN:VTIMEZONE
TZID:UTC
BEGIN:STANDARD
TZOFFSETFROM:+0000
TZOFFSETTO:+0000
TZNAME:UTC
DTSTART:20240101T000000
END:STANDARD
END:VTIMEZONE
BEGIN:VEVENT
DTSTART;TZID=UTC:20260418T193000
DTEND;TZID=UTC:20260418T213000
DTSTAMP:20260422T220429
CREATED:20260212T214215Z
LAST-MODIFIED:20260318T214433Z
UID:53167-1776540600-1776547800@jasdfw.org
SUMMARY:Japan America Friendship Night with FC Dallas!
DESCRIPTION:This event is dedicated to advancing economic collaboration and innovation between Japan and Texas. Hosted by the U.S.-Japan Council\, this three-day summit will convene top business leaders\, investors\, government officials\, and economic development organizations to explore strategic opportunities across sectors driving the future of both regions.   								\n				\n										\n						\n									See further details
URL:https://jasdfw.org/event/japan-america-friendship-night-with-fc-dallas/
LOCATION:Toyota Stadium\, 9200 World Cup Way\, Frisco\, TX\, 75033\, United States
CATEGORIES:Culture & Community
ATTACH;FMTTYPE=image/jpeg:https://jasdfw.org/wp-content/uploads/2026/02/Stadium.jpeg
ORGANIZER;CN="Japan-America Society of Dallas/Fort Worth":MAILTO:info@jasdfw.org
END:VEVENT
BEGIN:VEVENT
DTSTART;TZID=UTC:20260415T180000
DTEND;TZID=UTC:20260415T230000
DTSTAMP:20260422T220429
CREATED:20260105T181839Z
LAST-MODIFIED:20260105T182507Z
UID:51126-1776276000-1776294000@jasdfw.org
SUMMARY:2026 Sun & Star 28TH ANNUAL LEGACY AWARDS GALA
DESCRIPTION:This event is dedicated to advancing economic collaboration and innovation between Japan and Texas. Hosted by the U.S.-Japan Council\, this three-day summit will convene top business leaders\, investors\, government officials\, and economic development organizations to explore strategic opportunities across sectors driving the future of both regions.   								\n				\n										\n						\n									See further details
URL:https://jasdfw.org/event/2026-sun-star-28th-annual-legacy-awards-gala/
CATEGORIES:Business & Networking
ATTACH;FMTTYPE=image/jpeg:https://jasdfw.org/wp-content/uploads/2025/12/jas-about.jpg
END:VEVENT
BEGIN:VEVENT
DTSTART;TZID=UTC:20260330T180000
DTEND;TZID=UTC:20260402T210000
DTSTAMP:20260422T220429
CREATED:20260304T213241Z
LAST-MODIFIED:20260304T213812Z
UID:53658-1774893600-1775163600@jasdfw.org
SUMMARY:Hanami Nights
DESCRIPTION:This event is dedicated to advancing economic collaboration and innovation between Japan and Texas. Hosted by the U.S.-Japan Council\, this three-day summit will convene top business leaders\, investors\, government officials\, and economic development organizations to explore strategic opportunities across sectors driving the future of both regions.   								\n				\n										\n						\n									See further details
URL:https://jasdfw.org/event/hanami-nights/
LOCATION:Dallas Arboretum\, 8525 Garland Road\, Dallas\, 75218\, United States
CATEGORIES:Partner Event
ATTACH;FMTTYPE=image/jpeg:https://jasdfw.org/wp-content/uploads/2026/03/shutterstock_2433580581-scaled-1.jpg
END:VEVENT
BEGIN:VEVENT
DTSTART;TZID=UTC:20260319T180000
DTEND;TZID=UTC:20260319T200000
DTSTAMP:20260422T220429
CREATED:20260105T174917Z
LAST-MODIFIED:20260317T210017Z
UID:51105-1773943200-1773950400@jasdfw.org
SUMMARY:Celebrating Women's Career Achievement
DESCRIPTION:This event is dedicated to advancing economic collaboration and innovation between Japan and Texas. Hosted by the U.S.-Japan Council\, this three-day summit will convene top business leaders\, investors\, government officials\, and economic development organizations to explore strategic opportunities across sectors driving the future of both regions.   								\n				\n										\n						\n									See further details
URL:https://jasdfw.org/event/celebrating-womens-career-achievement/
LOCATION:Think Tank Conference Room\, 500 North Central Expressway\, Plano\, 75050\, United States
CATEGORIES:Business & Networking
ATTACH;FMTTYPE=image/png:https://jasdfw.org/wp-content/uploads/2026/01/Celebrating-Womens-Career-Achievement-2.png
ORGANIZER;CN="Japan-America Society of Dallas/Fort Worth":MAILTO:info@jasdfw.org
END:VEVENT
BEGIN:VEVENT
DTSTART;TZID=UTC:20260301T080000
DTEND;TZID=UTC:20260331T170000
DTSTAMP:20260422T220429
CREATED:20260226T190816Z
LAST-MODIFIED:20260304T150626Z
UID:53520-1772352000-1774976400@jasdfw.org
SUMMARY:Art to You！ World Art Exhibition for Artists with Disabilities IN SENDAI 2026
DESCRIPTION:This event is dedicated to advancing economic collaboration and innovation between Japan and Texas. Hosted by the U.S.-Japan Council\, this three-day summit will convene top business leaders\, investors\, government officials\, and economic development organizations to explore strategic opportunities across sectors driving the future of both regions.   								\n				\n										\n						\n									See further details
URL:https://jasdfw.org/event/art-to-you%ef%bc%81-world-art-exhibition-for-artists-with-disabilities-in-sendai-2026/
LOCATION:Social Welfare Foundation Tohoku Organization for Artists with Disabilities
CATEGORIES:Culture & Community
ATTACH;FMTTYPE=image/jpeg:https://jasdfw.org/wp-content/uploads/2026/02/Dallas-Sendai-Contest.jpeg
ORGANIZER;CN="Social Welfare Foundation Tohoku Organization for Artists with Disabilities":MAILTO:app@art2you.org
END:VEVENT
BEGIN:VEVENT
DTSTART;TZID=UTC:20260220T120000
DTEND;TZID=UTC:20260220T153000
DTSTAMP:20260422T220429
CREATED:20260105T181112Z
LAST-MODIFIED:20260210T222842Z
UID:51119-1771588800-1771601400@jasdfw.org
SUMMARY:2026 Japan Currents
DESCRIPTION:This event is dedicated to advancing economic collaboration and innovation between Japan and Texas. Hosted by the U.S.-Japan Council\, this three-day summit will convene top business leaders\, investors\, government officials\, and economic development organizations to explore strategic opportunities across sectors driving the future of both regions.   								\n				\n										\n						\n									See further details
URL:https://jasdfw.org/event/2026-japan-currents/
LOCATION:Southern Methodist University – Prothro Great Hall\, 5901 Bishop Blvd.\, Dallas\, TX\, 75205\, United States
CATEGORIES:Business & Networking
ATTACH;FMTTYPE=image/png:https://jasdfw.org/wp-content/uploads/2026/01/01_JC-japan-currents-icon-600x600-1.png
ORGANIZER;CN="Japan-America Society of Dallas/Fort Worth":MAILTO:info@jasdfw.org
END:VEVENT
BEGIN:VEVENT
DTSTART;TZID=UTC:20260217T180000
DTEND;TZID=UTC:20260226T203000
DTSTAMP:20260422T220429
CREATED:20260202T211858Z
LAST-MODIFIED:20260202T213136Z
UID:53048-1771351200-1772137800@jasdfw.org
SUMMARY:Japanese Movies in the Dallas–Fort Worth Area
DESCRIPTION:This event is dedicated to advancing economic collaboration and innovation between Japan and Texas. Hosted by the U.S.-Japan Council\, this three-day summit will convene top business leaders\, investors\, government officials\, and economic development organizations to explore strategic opportunities across sectors driving the future of both regions.   								\n				\n										\n						\n									See further details
URL:https://jasdfw.org/event/japanese-movies-in-the-dallas-fort-worth-area/
CATEGORIES:Partner Event
ATTACH;FMTTYPE=image/png:https://jasdfw.org/wp-content/uploads/2026/02/Image_JASDFW.png
END:VEVENT
BEGIN:VEVENT
DTSTART;TZID=UTC:20260212T180000
DTEND;TZID=UTC:20260212T200000
DTSTAMP:20260422T220429
CREATED:20260105T175959Z
LAST-MODIFIED:20260202T171853Z
UID:51113-1770919200-1770926400@jasdfw.org
SUMMARY:Business Outlook in 2026
DESCRIPTION:This event is dedicated to advancing economic collaboration and innovation between Japan and Texas. Hosted by the U.S.-Japan Council\, this three-day summit will convene top business leaders\, investors\, government officials\, and economic development organizations to explore strategic opportunities across sectors driving the future of both regions.   								\n				\n										\n						\n									See further details
URL:https://jasdfw.org/event/business-outlook-in-2026/
LOCATION:The Bonadio Group\, 7557 Rambler Road\, Suite 600\, Dallas\, TX\, 75231\, United States
CATEGORIES:Business & Networking
ATTACH;FMTTYPE=image/jpeg:https://jasdfw.org/wp-content/uploads/2026/01/PZ6_2898-scaled-1.jpg
ORGANIZER;CN="Japan-America Society of Dallas/Fort Worth":MAILTO:info@jasdfw.org
END:VEVENT
BEGIN:VEVENT
DTSTART;TZID=UTC:20260131T200000
DTEND;TZID=UTC:20260201T193000
DTSTAMP:20260422T220429
CREATED:20260109T221108Z
LAST-MODIFIED:20260109T222138Z
UID:51741-1769889600-1769974200@jasdfw.org
SUMMARY:Katsura Sunshine: Live in Fort Worth
DESCRIPTION:This event is dedicated to advancing economic collaboration and innovation between Japan and Texas. Hosted by the U.S.-Japan Council\, this three-day summit will convene top business leaders\, investors\, government officials\, and economic development organizations to explore strategic opportunities across sectors driving the future of both regions.   								\n				\n										\n						\n									See further details
URL:https://jasdfw.org/event/katsura-sunshine-live-in-fort-worth/
LOCATION:Big Laugh Comedy Club Fort Worth\, 604 Main St\, Suite 100\, Fort Worth\, TX\, 76102\, United States
CATEGORIES:Partner Event
ATTACH;FMTTYPE=image/png:https://jasdfw.org/wp-content/uploads/2026/01/Katsura-83e20892-main-image.png
END:VEVENT
BEGIN:VEVENT
DTSTART;TZID=UTC:20260111T140000
DTEND;TZID=UTC:20260111T170000
DTSTAMP:20260422T220429
CREATED:20250105T210512Z
LAST-MODIFIED:20251226T215353Z
UID:39572-1768140000-1768150800@jasdfw.org
SUMMARY:Mochitsuki New Year’s Celebration
DESCRIPTION:This event is dedicated to advancing economic collaboration and innovation between Japan and Texas. Hosted by the U.S.-Japan Council\, this three-day summit will convene top business leaders\, investors\, government officials\, and economic development organizations to explore strategic opportunities across sectors driving the future of both regions.   								\n				\n										\n						\n									See further details
URL:https://jasdfw.org/event/mochitsuki-new-years-celebration/
LOCATION:Crow Museum of Asian Art on the UT Dallas campus\, 777 Loop Road SW\, Richardson\, TX\, 75080\, United States
CATEGORIES:Culture & Community
ATTACH;FMTTYPE=image/jpeg:https://jasdfw.org/wp-content/uploads/2025/01/Image-1.jpg
ORGANIZER;CN="Japan-America Society of Dallas/Fort Worth":MAILTO:info@jasdfw.org
END:VEVENT
BEGIN:VEVENT
DTSTART;TZID=UTC:20251212T180000
DTEND;TZID=UTC:20251212T210000
DTSTAMP:20260422T220429
CREATED:20260120T201914Z
LAST-MODIFIED:20260120T201914Z
UID:52156-1765562400-1765573200@jasdfw.org
SUMMARY:Inaugural JASDFW Pickleball Social & Bonenkai Year-End Celebration
DESCRIPTION:This event is dedicated to advancing economic collaboration and innovation between Japan and Texas. Hosted by the U.S.-Japan Council\, this three-day summit will convene top business leaders\, investors\, government officials\, and economic development organizations to explore strategic opportunities across sectors driving the future of both regions.   								\n				\n										\n						\n									See further details
URL:https://jasdfw.org/event/inaugural-jasdfw-pickleball-social-bonenkai-year-end-celebration/
CATEGORIES:Culture & Community
ATTACH;FMTTYPE=image/png:https://jasdfw.org/wp-content/uploads/2026/01/Pickleball-Bonenkai-768x432-1.png
END:VEVENT
END:VCALENDAR