BEGIN:VCALENDAR
VERSION:2.0
PRODID:-//Japan America Society of DFW - ECPv6.15.20//NONSGML v1.0//EN
CALSCALE:GREGORIAN
METHOD:PUBLISH
X-WR-CALNAME:Japan America Society of DFW
X-ORIGINAL-URL:https://jasdfw.org
X-WR-CALDESC:Events for Japan America Society of DFW
REFRESH-INTERVAL;VALUE=DURATION:PT1H
X-Robots-Tag:noindex
X-PUBLISHED-TTL:PT1H
BEGIN:VTIMEZONE
TZID:UTC
BEGIN:STANDARD
TZOFFSETFROM:+0000
TZOFFSETTO:+0000
TZNAME:UTC
DTSTART:20240101T000000
END:STANDARD
END:VTIMEZONE
BEGIN:VEVENT
DTSTART;TZID=UTC:20260111T140000
DTEND;TZID=UTC:20260111T170000
DTSTAMP:20260423T111521
CREATED:20250105T210512Z
LAST-MODIFIED:20251226T215353Z
UID:39572-1768140000-1768150800@jasdfw.org
SUMMARY:Mochitsuki New Year’s Celebration
DESCRIPTION:This event is dedicated to advancing economic collaboration and innovation between Japan and Texas. Hosted by the U.S.-Japan Council\, this three-day summit will convene top business leaders\, investors\, government officials\, and economic development organizations to explore strategic opportunities across sectors driving the future of both regions.   								\n				\n										\n						\n									See further details
URL:https://jasdfw.org/event/mochitsuki-new-years-celebration/
LOCATION:Crow Museum of Asian Art on the UT Dallas campus\, 777 Loop Road SW\, Richardson\, TX\, 75080\, United States
CATEGORIES:Culture & Community
ATTACH;FMTTYPE=image/jpeg:https://jasdfw.org/wp-content/uploads/2025/01/Image-1.jpg
ORGANIZER;CN="Japan-America Society of Dallas/Fort Worth":MAILTO:info@jasdfw.org
END:VEVENT
BEGIN:VEVENT
DTSTART;TZID=UTC:20251212T180000
DTEND;TZID=UTC:20251212T210000
DTSTAMP:20260423T111521
CREATED:20260120T201914Z
LAST-MODIFIED:20260120T201914Z
UID:52156-1765562400-1765573200@jasdfw.org
SUMMARY:Inaugural JASDFW Pickleball Social & Bonenkai Year-End Celebration
DESCRIPTION:This event is dedicated to advancing economic collaboration and innovation between Japan and Texas. Hosted by the U.S.-Japan Council\, this three-day summit will convene top business leaders\, investors\, government officials\, and economic development organizations to explore strategic opportunities across sectors driving the future of both regions.   								\n				\n										\n						\n									See further details
URL:https://jasdfw.org/event/inaugural-jasdfw-pickleball-social-bonenkai-year-end-celebration/
CATEGORIES:Culture & Community
ATTACH;FMTTYPE=image/png:https://jasdfw.org/wp-content/uploads/2026/01/Pickleball-Bonenkai-768x432-1.png
END:VEVENT
END:VCALENDAR