BEGIN:VCALENDAR
VERSION:2.0
PRODID:-//Japan America Society of DFW - ECPv6.15.20//NONSGML v1.0//EN
CALSCALE:GREGORIAN
METHOD:PUBLISH
X-WR-CALNAME:Japan America Society of DFW
X-ORIGINAL-URL:https://jasdfw.org
X-WR-CALDESC:Events for Japan America Society of DFW
REFRESH-INTERVAL;VALUE=DURATION:PT1H
X-Robots-Tag:noindex
X-PUBLISHED-TTL:PT1H
BEGIN:VTIMEZONE
TZID:UTC
BEGIN:STANDARD
TZOFFSETFROM:+0000
TZOFFSETTO:+0000
TZNAME:UTC
DTSTART:20250101T000000
END:STANDARD
END:VTIMEZONE
BEGIN:VEVENT
DTSTART;TZID=UTC:20260330T180000
DTEND;TZID=UTC:20260402T210000
DTSTAMP:20260422T190430
CREATED:20260304T213241Z
LAST-MODIFIED:20260304T213812Z
UID:53658-1774893600-1775163600@jasdfw.org
SUMMARY:Hanami Nights
DESCRIPTION:This event is dedicated to advancing economic collaboration and innovation between Japan and Texas. Hosted by the U.S.-Japan Council\, this three-day summit will convene top business leaders\, investors\, government officials\, and economic development organizations to explore strategic opportunities across sectors driving the future of both regions.   								\n				\n										\n						\n									See further details
URL:https://jasdfw.org/event/hanami-nights/
LOCATION:Dallas Arboretum\, 8525 Garland Road\, Dallas\, 75218\, United States
CATEGORIES:Partner Event
ATTACH;FMTTYPE=image/jpeg:https://jasdfw.org/wp-content/uploads/2026/03/shutterstock_2433580581-scaled-1.jpg
END:VEVENT
END:VCALENDAR