BEGIN:VCALENDAR
VERSION:2.0
PRODID:-//Japan America Society of DFW - ECPv6.15.20//NONSGML v1.0//EN
CALSCALE:GREGORIAN
METHOD:PUBLISH
X-WR-CALNAME:Japan America Society of DFW
X-ORIGINAL-URL:https://jasdfw.org
X-WR-CALDESC:Events for Japan America Society of DFW
REFRESH-INTERVAL;VALUE=DURATION:PT1H
X-Robots-Tag:noindex
X-PUBLISHED-TTL:PT1H
BEGIN:VTIMEZONE
TZID:UTC
BEGIN:STANDARD
TZOFFSETFROM:+0000
TZOFFSETTO:+0000
TZNAME:UTC
DTSTART:20250101T000000
END:STANDARD
END:VTIMEZONE
BEGIN:VEVENT
DTSTART;TZID=UTC:20260301T080000
DTEND;TZID=UTC:20260331T170000
DTSTAMP:20260422T203217
CREATED:20260226T190816Z
LAST-MODIFIED:20260304T150626Z
UID:53520-1772352000-1774976400@jasdfw.org
SUMMARY:Art to You！ World Art Exhibition for Artists with Disabilities IN SENDAI 2026
DESCRIPTION:This event is dedicated to advancing economic collaboration and innovation between Japan and Texas. Hosted by the U.S.-Japan Council\, this three-day summit will convene top business leaders\, investors\, government officials\, and economic development organizations to explore strategic opportunities across sectors driving the future of both regions.   								\n				\n										\n						\n									See further details
URL:https://jasdfw.org/event/art-to-you%ef%bc%81-world-art-exhibition-for-artists-with-disabilities-in-sendai-2026/
LOCATION:Social Welfare Foundation Tohoku Organization for Artists with Disabilities
CATEGORIES:Culture & Community
ATTACH;FMTTYPE=image/jpeg:https://jasdfw.org/wp-content/uploads/2026/02/Dallas-Sendai-Contest.jpeg
ORGANIZER;CN="Social Welfare Foundation Tohoku Organization for Artists with Disabilities":MAILTO:app@art2you.org
END:VEVENT
END:VCALENDAR